BEGIN:VCALENDAR
VERSION:2.0
PRODID:-//hacksw/handcal//NONSGML v1.0//EN
BEGIN:VEVENT
DTSTAMP:20261107T010000Z
DTSTART:20261107T010000Z
DTEND:20261107T030000Z

SUMMARY:Zarna Garg
DESCRIPTION:Zarna Garg:Comedian Zarna Garg is a force of nature with a microphone, doling out home truths about family life that everyone everywhere can relate to.The New York Times praised Zarna&#39;s first comedy special, Zarna Garg: One in a Billion (Amazon Prime, 2023), saying, "Garg has the kind of presence that powers network sitcoms." Her follow-up special, Zarna Garg: Practical People Win(Hulu, 2025), debuted at #2 during its opening week.Zarna&#39;s inspiring memoir This American Woman, about her treacherous climb from homeless Mumbai to unhinged American mom to internationally beloved stand-up comedian, is a New York Times Bestseller with over 10,000 4- and 5-star reviews on Amazon, where it was named one of their Best of 2025 books. Published by Random House, the book has resonated with readers worldwide.When Zarna&#39;s not opening for icons Tina Fey and Amy Poehler on their Restless Leg tour, or building shows with Mindy Kaling and Kevin Hart, she&#39;s selling out headlining shows worldwide. Her Practical People Win tour sold out venues across the U.S., Europe, India, Dubai, and Riyadh, and her new global tour, Zarna Garg: Million Dollar Excuses, features an all-new hour of comedy at even bigger venues and theaters.Her Tonight Show with Jimmy Fallon and Late Night with Seth Meyers interviews are among their most watched online. She made her acting debut in indie superhit A Nice Indian Boy, which premiered at the 2024 SXSW Film Festival and was named a New York Times Critic&#39;s Pick, with the paper calling Zarna "a standout" and CinemaBlend praising her performance as "particularly impressive." She is currently in production on Clashing Through the Snow, an Amazon MGM holiday comedy described as a Planes, Trains and Automobiles for the Gen Z generation, also starring Christopher Briney and Michelle Randolph, in which she plays Gail — coming this Christmas. She has also been featured on Apple TV&#39;s Gutsy and This American Life.Her hugely popular Zarna Garg Family Show podcast explores modern family life with her husband and kids, tackling the biggest issues with humor and heart.Zarna is a recipient of the inaugural Instagram Ring Award for the world&#39;s top 25 creators (the Oscars of the Internet). With over 3 million social media followers and billions of views, Zarna just can&#39;t stop laughing her way to the top.
END:VEVENT
END:VCALENDAR