BEGIN:VCALENDAR
VERSION:2.0
PRODID:-//hacksw/handcal//NONSGML v1.0//EN
BEGIN:VEVENT
DTSTAMP:20230330T233000Z
DTSTART:20230330T233000Z
DTEND:20230331T023000Z

SUMMARY:Wilco
DESCRIPTION:WILCO:Wilco performs three nights with no repeats on March 30, 31 + April 1 with support from Horsegirl.
END:VEVENT
END:VCALENDAR