BEGIN:VCALENDAR
VERSION:2.0
PRODID:-//hacksw/handcal//NONSGML v1.0//EN
BEGIN:VEVENT
DTSTAMP:20250621T000000Z
DTSTART:20250621T000000Z
DTEND:20250621T020000Z

SUMMARY:The Tom Petty Project
DESCRIPTION:Tom Petty Project:The Tom Petty Project is a celebration of one ofrock’s most legendary artists. TPP was formed by acollection of seasoned, professional musicians in theNY/CT area to re-create the soaring liveperformances, and wide-ranging music cataloguethat brought Petty and his bands the giganticfollowing that persists today. From its origins in2018, TPP has been selling out popular musicvenues in the tri-state area, including the Main Stageat the FTC Warehouse in Fairfield, CT, the LevittPavilion in Westport, CT and Nantucket’s renownedChicken Box. The fan reaction has been incredibleas word continues to spread that this is the best TomPetty tribute act on the east coast.
END:VEVENT
END:VCALENDAR