BEGIN:VCALENDAR
VERSION:2.0
PRODID:-//hacksw/handcal//NONSGML v1.0//EN
BEGIN:VEVENT
DTSTAMP:20240316T224000Z
DTSTART:20240316T224000Z
DTEND:20240317T004000Z

SUMMARY:The Field Service
DESCRIPTION:Attendees must have ticket to 3/16 Phil Lesh concert in order to the attend pre-show!The Field Service:is a Hudson-Valley based improvisational band steeped in rock, blues, jazz, and funk. The band strives to make every single show different from the last, and to keep audiences on their toes - exploring harmonic and melodic content, as well as in-the-moment storytelling.
END:VEVENT
END:VCALENDAR