BEGIN:VCALENDAR
VERSION:2.0
PRODID:-//hacksw/handcal//NONSGML v1.0//EN
BEGIN:VEVENT
DTSTAMP:20260919T233000Z
DTSTART:20260919T233000Z
DTEND:20260920T013000Z

SUMMARY:The Capitol Theatre 100th Anniversary Celebration
DESCRIPTION:The Capitol Theatre is celebrating its 100 Year Anniversary! Join us for a once-in-a-lifetime celebration of music, magic, and history. Pink Talking Fish is headlining the night as "The Centennial Band." They will perform a spectacular show honoring the legendary artists who have rocked The Cap, featuring special guests and surprise moments throughout the night. Adding to the festivities, BERTHA: Grateful Drag - the world’s first all-drag Grateful Dead tribute band - will pay tribute to the Dead’s legacy with high-energy flair. Expect a journey through time and space. From the psychedelic heyday of the 1970s to today’s modern jam and rock scene, this special anniversary celebration will honor The Cap’s century-long legacy of iconic performances, spontaneous magic, and enduring musical spirit. We invite you to celebrate 100 years of live music, community, and the artists who made it legendary.
END:VEVENT
END:VCALENDAR