BEGIN:VCALENDAR
VERSION:2.0
PRODID:-//hacksw/handcal//NONSGML v1.0//EN
BEGIN:VEVENT
DTSTAMP:20240224T000000Z
DTSTART:20240224T000000Z
DTEND:20240224T020000Z

SUMMARY:Steve Leonard
DESCRIPTION:Attendees must have ticket to 2/23/24 Almost Queen concert in order to attend the pre-show! Steve Leonard:Steve Leonard has been playing guitar and writing songs since the time of his first rock concert at Brendan Byrne Arena (Whitesnake). Walking the fine line between John Denver and Frank Zappa, Steve resists judgment and prefers to just let the music flow. Steve has an instinctive propensity to rock, as the guitarist for Queen tribute Almost Queen should.Steve’s brand-new album, “The Good Wheel,” is now available across all popular digital music stores and streaming platforms. The album showcases Leonard’s unique blend of rock and reflective songwriting, with musical contributions from notable musicians, including Eric Slick (Dr. Dog) on drums, Dave Dreiwitz (Ween, Joe Russo’s Almost Dead) on bass, John Skehan (Railroad Earth) on mandolin, and more. The album cover features stunning hand-drawn psychedelic artwork by artist Josh Levy (Asheville Art Family), bringing Leonard’s vision to life.
END:VEVENT
END:VCALENDAR