BEGIN:VCALENDAR
VERSION:2.0
PRODID:-//hacksw/handcal//NONSGML v1.0//EN
BEGIN:VEVENT
DTSTAMP:20211111T010000Z
DTSTART:20211111T010000Z
DTEND:20211111T040000Z

SUMMARY:Steely Dan - The Absolutely Normal Tour
DESCRIPTION:Please review our updated health and safety protocols here.Steely Dan:STEELY DAN helped define the soundtrack of the &#39;70s with hits such as "Reeling in the Years", "Rikki Don&#39;t Lose That Number," "Peg," “Deacon Blues,” “Babylon Sisters,” and “Hey Nineteen,” culled from their seven platinum albums issued between 1972 and 1980 (including 1977&#39;s groundbreaking Aja). Both their sound and their notoriety survived the &#39;80s despite Becker and Fagen&#39;s only occasional surfacing for a solo project. They reunited as Steely Dan in the early &#39;90s, touring successfully throughout the decade and releasing a live album in 1995 (Alive In America). In 2000 they released their multi-GRAMMY® winner, Two Against Nature, and were inducted into the Rock and Roll Hall of Fame in 2001.
END:VEVENT
END:VCALENDAR