BEGIN:VCALENDAR
VERSION:2.0
PRODID:-//hacksw/handcal//NONSGML v1.0//EN
BEGIN:VEVENT
DTSTAMP:20240808T000000Z
DTSTART:20240808T000000Z
DTEND:20240808T030000Z

SUMMARY:Shakedown Citi
DESCRIPTION:Shakedown Citi:A new and exciting face on the Jam Band landscape, Shakedown Citi was formed in the shakedown street parking lot at Citi Field in 2023 as the musicians met each other for the first time and knew there was something special going on.  SC channels the music and musicianship of the Grateful Dead without trying to copy them outright.The music feels alive, fresh and new.  Each song is a journey that can take new directions, twists and turns at any time.  The interplay, communication and musicality of the performers has inspired people that don’t even like the Grateful Dead to LIKE Shakedown Citi.  And if you’re a fan of segues, transitions, song combinations and creative, fun and interesting set lists encompassing an expansive repertoire – Shakedown Citi is definitely your jam.
END:VEVENT
END:VCALENDAR