BEGIN:VCALENDAR
VERSION:2.0
PRODID:-//hacksw/handcal//NONSGML v1.0//EN
BEGIN:VEVENT
DTSTAMP:20240225T190000Z
DTSTART:20240225T190000Z
DTEND:20240225T220000Z

SUMMARY:School Of Rock Winter Houseband Showcase
DESCRIPTION:School of Rock:School of Rock Mamaroneck hosts the 2024 School of Rock Winter House Band Showcase at Garcia&#39;s at The Capitol Theatre. Talented young musicians of varying ages from Long Island, Queens, and Westchester will come together to perform an epic mix of classic rock music and greatest hits. For more on School of Rock and the programs they offer, visit Mamaroneck.schoolofrock.com.
END:VEVENT
END:VCALENDAR