BEGIN:VCALENDAR
VERSION:2.0
PRODID:-//hacksw/handcal//NONSGML v1.0//EN
BEGIN:VEVENT
DTSTAMP:20210722T220000Z
DTSTART:20210722T220000Z
DTEND:20210723T010000Z

SUMMARY:School Of Rock 2021 Summer Tour Show!
DESCRIPTION:
END:VEVENT
END:VCALENDAR