BEGIN:VCALENDAR
VERSION:2.0
PRODID:-//hacksw/handcal//NONSGML v1.0//EN
BEGIN:VEVENT
DTSTAMP:20260528T000000Z
DTSTART:20260528T000000Z
DTEND:20260528T020000Z

SUMMARY:Ripple Allstars
DESCRIPTION:The Ripple Allstars:The Ripple Allstars consists of five seasoned musicians who have been a part of the tri-state scene for many years. In 2023, they coalesced into a monthly residency at seminal New York City club the Bitter End, which typically takes place on the second Wednesday of every month. They have also played at a variety of other events and venues, including Beau’s Bar in Greenlawn, Hill Country Barbecue in Manhattan, Garcia&#39;s at the Capitol Theatre in Port Chester and the Great South Bay Festival in Patchogue.Focusing on Grateful Dead and adjacent material such as Bob Dylan, Van Morrison, the Allman Brothers Band and Eric Clapton, Ripple Allstars performances feature great grooves, smoky jams and a nice blend from their four vocalists.Members:Rennie Pincus: Guitar and vocalsColin Taber: Guitar and vocalsJordan Goldstein: Keyboards and vocalsScott Gibson: Drums and vocalsRay Kairys: Bass guitar
END:VEVENT
END:VCALENDAR