BEGIN:VCALENDAR
VERSION:2.0
PRODID:-//hacksw/handcal//NONSGML v1.0//EN
BEGIN:VEVENT
DTSTAMP:20200415T000000Z
DTSTART:20200415T000000Z
DTEND:20200415T030000Z

SUMMARY:CANCELED-Lake Street Dive
DESCRIPTION:Lake Street DiveAn easy going, semi-acoustic, fireside evening with Lake Street Dive. Come as you are and sing along as the band performs a revue of their 16-year catalog of songs. Deep cuts, works in progress, and fan favorites, all sung around a grand piano. Silk pajamas encouraged.
END:VEVENT
END:VCALENDAR