BEGIN:VCALENDAR
VERSION:2.0
PRODID:-//hacksw/handcal//NONSGML v1.0//EN
BEGIN:VEVENT
DTSTAMP:20230129T010000Z
DTSTART:20230129T010000Z
DTEND:20230129T040000Z

SUMMARY:Joe Russo's Almost Dead
DESCRIPTION:Joe Russo&#39;s Almost Dead:Joe Russo&#39;s Almost Dead is Marco Benevento, Dave Dreiwitz, Tom Hamilton, Scott Metzger and Joe Russo. We&#39;re a Grateful Dead cover band.
END:VEVENT
END:VCALENDAR