BEGIN:VCALENDAR
VERSION:2.0
PRODID:-//hacksw/handcal//NONSGML v1.0//EN
BEGIN:VEVENT
DTSTAMP:20230802T000000Z
DTSTART:20230802T000000Z
DTEND:20230802T030000Z

SUMMARY:Jerry Garcia's Birthday Party with Dead Meat!
DESCRIPTION:Dead Meat:Dead Meat is an electrifying tribute to The Grateful Dead. They have become a fan favorite known for their moving harmonies, high-energy blocks of music and routinely pushing the limits of Dead’s vast catalog. The band’s unique renditions of timeless classics make them a must see, whether you’re a life long Dead head or a casual listener.
END:VEVENT
END:VCALENDAR