BEGIN:VCALENDAR
VERSION:2.0
PRODID:-//hacksw/handcal//NONSGML v1.0//EN
BEGIN:VEVENT
DTSTAMP:20240803T000000Z
DTSTART:20240803T000000Z
DTEND:20240803T030000Z

SUMMARY:Jerry Daze Between - Leftover Salmon W/ Daniel Donato's Cosmic Country
DESCRIPTION:Relix Presents Leftover Salmon with Daniel Donato&#39;s Cosmic Country and Sicard Hollow:Leftover Salmon Performs Workingman&#39;s Salmon with Daniel Donato&#39;s Cosmic Country on Friday, August 2!The show will feature a pre-show and after-party from Sicard Hollow in Garcia&#39;s.
END:VEVENT
END:VCALENDAR