BEGIN:VCALENDAR
VERSION:2.0
PRODID:-//hacksw/handcal//NONSGML v1.0//EN
BEGIN:VEVENT
DTSTAMP:20240418T000000Z
DTSTART:20240418T000000Z
DTEND:20240418T030000Z

SUMMARY:Grateful For Biggie- A Fusion Of The Notorious B.I.G. & Grateful Dead
DESCRIPTION:Grateful For Biggie:“Grateful for Biggie”: Where Grateful Vibes Meet Hip-Hop Flow!Step into a world where time-honored melodies collide with urban poetry, where the rhythms of yesterday&#39;s legends unite with the beats of a modern era. Introducing "Grateful for Biggie," the ultimate mashup tribute that seamlessly blends the Grateful Dead&#39;s signature grooves with the lyrical genius of Notorious B.I.G. Get ready for a sonic journey that defies genres and sparks new musical dimensions.At the heart of "Grateful for Biggie" lies the powerful fusion of two iconic forces. The Grateful Dead&#39;s ethereal harmonies and improvisational magic interweave with Biggie&#39;s slick rhymes and storytelling prowess, creating a tapestry of sound that resonates with fans of both worlds. Each performance is a dynamic celebration of musical innovation, where "China Cat Sunflower" meets "Kick in the Door," and "Shakedown Street" flows seamlessly with "Hypnotize."Led by a group of passionate musicians, "Grateful for Biggie" captures the essence of both the Grateful Dead and Notorious B.I.G., paying homage to the legacies that shaped generations. With electrifying stage presence and the soulful vibes of the past, this tribute band invites you to revel in the familiar while experiencing the thrill of the unexpected. So, whether you&#39;re a classic rock enthusiast curious about hip-hop&#39;s allure or a rap aficionado looking to groove to some legendary tunes, "Grateful for Biggie" promises an unforgettable ride. Join us as we bridge the gap between two of American greatest cultural movements of all time, creating a musical experience that proves true artistry knows no boundaries.BAND LINEUP:Ashley Ickes(The Comb Down): DrumsBrian Lauri:(Root Shock): Keys, VoxCharley Orlando(Dexter Grove): Vox, GuitarEmanuel Washington(Sophistafunk): Drums, VoxJay Lock(Skunk City): GuitarMike Spadaro(Skunk City): BassSkribe Da God(Giant Panda Guerilla Dub Squad): Vox
END:VEVENT
END:VCALENDAR