BEGIN:VCALENDAR
VERSION:2.0
PRODID:-//hacksw/handcal//NONSGML v1.0//EN
BEGIN:VEVENT
DTSTAMP:20230219T020000Z
DTSTART:20230219T020000Z
DTEND:20230219T050000Z

SUMMARY:Gimme Gimme Disco
DESCRIPTION:Gimme Gimme Disco:Calling all Dancing Queens! We&#39;re a dance party playing your favorite ABBA hits, plus plenty of other disco hits from the 70s like The Bee Gees and Cher.
END:VEVENT
END:VCALENDAR