BEGIN:VCALENDAR
VERSION:2.0
PRODID:-//hacksw/handcal//NONSGML v1.0//EN
BEGIN:VEVENT
DTSTAMP:20231011T000000Z
DTSTART:20231011T000000Z
DTEND:20231011T030000Z

SUMMARY:Dogstar
DESCRIPTION:Dogstar:Dogstar is composed of guitarist/vocalist Bret Domrose, drummer Rob Mailhouse and bassist Keanu Reeves.
END:VEVENT
END:VCALENDAR