BEGIN:VCALENDAR
VERSION:2.0
PRODID:-//hacksw/handcal//NONSGML v1.0//EN
BEGIN:VEVENT
DTSTAMP:20221206T000000Z
DTSTART:20221206T000000Z
DTEND:20221206T020000Z

SUMMARY:Closed for a Private Event
DESCRIPTION:Closed for a Private Event. To plan your event at The Capitol Theatre reach out to events@thecapitoltheatre.com.
END:VEVENT
END:VCALENDAR