BEGIN:VCALENDAR
VERSION:2.0
PRODID:-//hacksw/handcal//NONSGML v1.0//EN
BEGIN:VEVENT
DTSTAMP:20240413T220000Z
DTSTART:20240413T220000Z
DTEND:20240414T000000Z

SUMMARY:Closed For a Private Event
DESCRIPTION:Closed for a Private Event. To plan your event at The Capitol Theatre reach out to events@thecapitoltheatre.com.  
END:VEVENT
END:VCALENDAR