BEGIN:VCALENDAR
VERSION:2.0
PRODID:-//hacksw/handcal//NONSGML v1.0//EN
BEGIN:VEVENT
DTSTAMP:20251214T220000Z
DTSTART:20251214T220000Z
DTEND:20251215T010000Z

SUMMARY:Central Park Dance Presents: The Nutcracker
DESCRIPTION:Nutcracker Show Day Box Office Hours:12/7: Box Office Opens at 2pm12/14: Box Office Opens at 10amCentral Park Dance:A winter tradition for Westchester families, Central Park Dance will return to The Capitol Theatre this holiday season with its 10th annual production of Tchaikovsky’s The Nutcracker. Join Clara on her wild journey through a blizzard of ballerinas into a Land of Sweets filled with colorful characters and pure holiday magic. This beloved classic features over 100 dancers from Central Park Dance and surrounding Westchester communities featuring Tanner Schwartz formerly with Boston Ballet & Maisee Anderson as Sugar Plum. Join us for this timeless tale.
END:VEVENT
END:VCALENDAR