BEGIN:VCALENDAR
VERSION:2.0
PRODID:-//hacksw/handcal//NONSGML v1.0//EN
BEGIN:VEVENT
DTSTAMP:20210713T133000Z
DTSTART:20210713T133000Z
DTEND:20210713T173000Z

SUMMARY:Blood Drive 
DESCRIPTION:Be a hero, donate blood, and help save lives at The Cap!
END:VEVENT
END:VCALENDAR