BEGIN:VCALENDAR
VERSION:2.0
PRODID:-//hacksw/handcal//NONSGML v1.0//EN
BEGIN:VEVENT
DTSTAMP:20260504T230000Z
DTSTART:20260504T230000Z
DTEND:20260505T010000Z

SUMMARY:Bat Out Of Hell
DESCRIPTION:Bat Out of Hell Musical:BAT OUT OF HELL THE MUSICAL, the award winning musical, is a thrilling spectacle of a show where the timeless music of Jim Steinman and Meat Loaf reigns supreme!Inspired by the spectacular arena tour of Australia and New Zealand, this reimagined show features a dynamic eight-piece rock band live on stage and the epic cast will bring their powerhouse vocals to Meat Loaf’s anthems including I’d Do Anything For Love (But I Won’t Do That), Dead Ringer For Love, and of course Bat Out of Hell.Get ready to witness BAT OUT OF HELL: The Musical as it explodes onto the stage at The Capitol Theatre, in a spectacle that promises to be nothing short of legendary.
END:VEVENT
END:VCALENDAR