BEGIN:VCALENDAR
VERSION:2.0
PRODID:-//hacksw/handcal//NONSGML v1.0//EN
BEGIN:VEVENT
DTSTAMP:20220529T000000Z
DTSTART:20220529T000000Z
DTEND:20220529T030000Z

SUMMARY:Anders Osborne & Jackie Greene
DESCRIPTION:Not too long-ago, Anders Osborne and Jackie Greene were booked to do a few solo acoustic shows together. One thought, and the other agreed, that the shows would be a helluva lot more fun if they joined together and did them “in the round.” For two friends that are gifted as both singer-songwriters and guitarists—impromptu “jamming” is second nature. But for these shows, they’ve ditched their bands for some stripped down acoustic performances, each taking a turn with one of their songs, while the other provides accompaniment.It was a great experience for each of them and audience alike and Jackie and Anders are excited to continue this evening of old fashioned tune trading.
END:VEVENT
END:VCALENDAR