BEGIN:VCALENDAR
VERSION:2.0
PRODID:-//hacksw/handcal//NONSGML v1.0//EN
BEGIN:VEVENT
DTSTAMP:20251108T000000Z
DTSTART:20251108T000000Z
DTEND:20251108T020000Z

SUMMARY:An Evening With Phil Rosenthal of “Somebody Feed Phil”
DESCRIPTION:Phil Rosenthal:Phil Rosenthal is the award-winning creator and executive producer of “SOMEBODY FEED PHIL” and "EVERYBODY LOVES RAYMOND", as well as a New York Times Best Selling Author.  Join Phil Rosenthal in a moderated conversation followed by an audience Q&A. Phil will be telling all the funny and true stories of his life, his television career, food, travel, friends and family. 
END:VEVENT
END:VCALENDAR