BEGIN:VCALENDAR
VERSION:2.0
PRODID:-//hacksw/handcal//NONSGML v1.0//EN
BEGIN:VEVENT
DTSTAMP:20250829T000000Z
DTSTART:20250829T000000Z
DTEND:20250829T020000Z

SUMMARY:8TRACK BAND
DESCRIPTION:8TRACK BAND:Prepare yourself to be transported back into the era that made classic rock classic – the 1970s! 8TRACK BAND plays all the tunes you know and love with a modern edge, killer harmonies, and the big band sound of trumpet and sax. Paying tribute to the timeless grooves of Bruce Springsteen, The Rolling Stones, Fleetwood Mac, Bob Marley, David Bowie, Billy Joel, Steely Dan, The Bee Gees, and more, 8TRACK’s live concert energy will have you dancing, singing, and jumping out of your seat.
END:VEVENT
END:VCALENDAR